BEGIN:VCALENDAR
VERSION:2.0
PRODID:-//DORFMUSEUM WEINBURG - ECPv6.15.15//NONSGML v1.0//EN
CALSCALE:GREGORIAN
METHOD:PUBLISH
X-WR-CALNAME:DORFMUSEUM WEINBURG
X-ORIGINAL-URL:https://dorfmuseum.eu
X-WR-CALDESC:Veranstaltungen für DORFMUSEUM WEINBURG
REFRESH-INTERVAL;VALUE=DURATION:PT1H
X-Robots-Tag:noindex
X-PUBLISHED-TTL:PT1H
BEGIN:VTIMEZONE
TZID:Europe/Vienna
BEGIN:DAYLIGHT
TZOFFSETFROM:+0100
TZOFFSETTO:+0200
TZNAME:CEST
DTSTART:20250330T010000
END:DAYLIGHT
BEGIN:STANDARD
TZOFFSETFROM:+0200
TZOFFSETTO:+0100
TZNAME:CET
DTSTART:20251026T010000
END:STANDARD
BEGIN:DAYLIGHT
TZOFFSETFROM:+0100
TZOFFSETTO:+0200
TZNAME:CEST
DTSTART:20260329T010000
END:DAYLIGHT
BEGIN:STANDARD
TZOFFSETFROM:+0200
TZOFFSETTO:+0100
TZNAME:CET
DTSTART:20261025T010000
END:STANDARD
BEGIN:DAYLIGHT
TZOFFSETFROM:+0100
TZOFFSETTO:+0200
TZNAME:CEST
DTSTART:20270328T010000
END:DAYLIGHT
BEGIN:STANDARD
TZOFFSETFROM:+0200
TZOFFSETTO:+0100
TZNAME:CET
DTSTART:20271031T010000
END:STANDARD
END:VTIMEZONE
BEGIN:VEVENT
DTSTART;TZID=Europe/Vienna:20260509T140000
DTEND;TZID=Europe/Vienna:20260509T160000
DTSTAMP:20260420T032928
CREATED:20251120T175020Z
LAST-MODIFIED:20251120T175020Z
UID:2198-1778335200-1778342400@dorfmuseum.eu
SUMMARY:Museum geöffnet
DESCRIPTION:
URL:https://dorfmuseum.eu/event/museum-geoeffnet-8/
END:VEVENT
BEGIN:VEVENT
DTSTART;TZID=Europe/Vienna:20260525T110000
DTEND;TZID=Europe/Vienna:20260525T140000
DTSTAMP:20260420T032928
CREATED:20251120T175123Z
LAST-MODIFIED:20251120T175123Z
UID:2200-1779706800-1779717600@dorfmuseum.eu
SUMMARY:Museum geöffnet (im Rahmen des Pfarrfestes)
DESCRIPTION:
URL:https://dorfmuseum.eu/event/museum-geoeffnet-im-rahmen-des-pfarrfestes/
END:VEVENT
BEGIN:VEVENT
DTSTART;TZID=Europe/Vienna:20260613T140000
DTEND;TZID=Europe/Vienna:20260613T160000
DTSTAMP:20260420T032928
CREATED:20251120T175207Z
LAST-MODIFIED:20251120T175207Z
UID:2202-1781359200-1781366400@dorfmuseum.eu
SUMMARY:Museum geöffnet
DESCRIPTION:
URL:https://dorfmuseum.eu/event/museum-geoeffnet-9/
END:VEVENT
BEGIN:VEVENT
DTSTART;TZID=Europe/Vienna:20260704T140000
DTEND;TZID=Europe/Vienna:20260704T160000
DTSTAMP:20260420T032928
CREATED:20251120T175241Z
LAST-MODIFIED:20251120T175241Z
UID:2204-1783173600-1783180800@dorfmuseum.eu
SUMMARY:Museum geöffnet
DESCRIPTION:
URL:https://dorfmuseum.eu/event/museum-geoeffnet-10/
END:VEVENT
BEGIN:VEVENT
DTSTART;TZID=Europe/Vienna:20260808T140000
DTEND;TZID=Europe/Vienna:20260808T160000
DTSTAMP:20260420T032928
CREATED:20251120T175317Z
LAST-MODIFIED:20260202T191121Z
UID:2206-1786197600-1786204800@dorfmuseum.eu
SUMMARY:Museum geöffnet
DESCRIPTION:
URL:https://dorfmuseum.eu/event/museum-geoeffnet-11/
END:VEVENT
BEGIN:VEVENT
DTSTART;TZID=Europe/Vienna:20260912T140000
DTEND;TZID=Europe/Vienna:20260912T160000
DTSTAMP:20260420T032928
CREATED:20251120T175351Z
LAST-MODIFIED:20251120T175351Z
UID:2208-1789221600-1789228800@dorfmuseum.eu
SUMMARY:Museum geöffnet
DESCRIPTION:
URL:https://dorfmuseum.eu/event/museum-geoeffnet-12/
END:VEVENT
BEGIN:VEVENT
DTSTART;TZID=Europe/Vienna:20261003T140000
DTEND;TZID=Europe/Vienna:20261003T160000
DTSTAMP:20260420T032928
CREATED:20251120T175429Z
LAST-MODIFIED:20251120T175429Z
UID:2210-1791036000-1791043200@dorfmuseum.eu
SUMMARY:Museum geöffnet
DESCRIPTION:
URL:https://dorfmuseum.eu/event/museum-geoeffnet-13/
END:VEVENT
BEGIN:VEVENT
DTSTART;TZID=Europe/Vienna:20261107T140000
DTEND;TZID=Europe/Vienna:20261107T160000
DTSTAMP:20260420T032928
CREATED:20251120T175502Z
LAST-MODIFIED:20251120T175502Z
UID:2212-1794060000-1794067200@dorfmuseum.eu
SUMMARY:Museum geöffnet
DESCRIPTION:
URL:https://dorfmuseum.eu/event/museum-geoeffnet-14/
END:VEVENT
BEGIN:VEVENT
DTSTART;TZID=Europe/Vienna:20261208T140000
DTEND;TZID=Europe/Vienna:20261208T160000
DTSTAMP:20260420T032928
CREATED:20251120T175548Z
LAST-MODIFIED:20251120T175548Z
UID:2214-1796738400-1796745600@dorfmuseum.eu
SUMMARY:Museum geöffnet (Feiertag)
DESCRIPTION:
URL:https://dorfmuseum.eu/event/museum-geoeffnet-feiertag/
END:VEVENT
END:VCALENDAR